BEGIN:VCALENDAR
VERSION:2.0
PRODID:calendify.com
BEGIN:VEVENT
UID:calendify-session-3v8gVWvp4Ql
DTSTART:20210318T133000Z
SEQUENCE:0
TRANSP:OPAQUE
DTEND:20210318T163000Z
URL:https://calendify.com/session/3v8gVWvp4Ql
LOCATION:Spatial Chat / Social 1
SUMMARY:Share Your Stories About the Best & the Worst of 2020 Internet Heal
 th
CLASS:PUBLIC
DESCRIPTION:https://calendify.com/session/3v8gVWvp4Ql
DTSTAMP:20260420T160329Z
CREATED:20210426T094931Z
LAST-MODIFIED:20210426T094931Z
END:VEVENT
END:VCALENDAR