BEGIN:VCALENDAR
VERSION:2.0
PRODID:calendify.com
BEGIN:VEVENT
UID:calendify-session-3v8gVWxB4Ql
DTSTART:20211025T220000Z
SEQUENCE:0
TRANSP:OPAQUE
DTEND:20211026T215500Z
URL:https://calendify.com/session/3v8gVWxB4Ql
LOCATION:Kunst 1
SUMMARY:Däténméér
CLASS:PUBLIC
DESCRIPTION:https://calendify.com/session/3v8gVWxB4Ql
DTSTAMP:20260423T191812Z
CREATED:20211025T094003Z
LAST-MODIFIED:20211101T215003Z
END:VEVENT
END:VCALENDAR