BEGIN:VCALENDAR
VERSION:2.0
PRODID:calendify.com
BEGIN:VEVENT
UID:calendify-session-3v8gVb67gQl
DTSTART:20220608T161500Z
SEQUENCE:0
TRANSP:OPAQUE
DTEND:20220608T164500Z
URL:https://calendify.com/session/3v8gVb67gQl
LOCATION:Lightning Box 2
SUMMARY:Was\, wenn alles gut wird? Wir wagen eine Vision in die Zukunft nac
 h der Energiewende
CLASS:PUBLIC
DESCRIPTION:https://calendify.com/session/3v8gVb67gQl
DTSTAMP:20260422T165247Z
CREATED:20220526T162947Z
LAST-MODIFIED:20220613T235204Z
END:VEVENT
END:VCALENDAR