BEGIN:VCALENDAR
VERSION:2.0
PRODID:calendify.com
BEGIN:VEVENT
UID:calendify-session-3v8gVb9PgQl
DTSTART:20220725T133000Z
SEQUENCE:0
TRANSP:OPAQUE
DTEND:20220725T150000Z
URL:https://calendify.com/session/3v8gVb9PgQl
LOCATION:Envelope ✉️
SUMMARY:Internet measurements with RIPE NCC tools
CLASS:PUBLIC
DESCRIPTION:https://calendify.com/session/3v8gVb9PgQl
DTSTAMP:20260424T003206Z
CREATED:20220620T212434Z
LAST-MODIFIED:20220726T182703Z
END:VEVENT
END:VCALENDAR