BEGIN:VCALENDAR
VERSION:2.0
PRODID:calendify.com
BEGIN:VEVENT
UID:calendify-session-3v8gVbKBgQl
DTSTART:20220609T164500Z
SEQUENCE:0
TRANSP:OPAQUE
DTEND:20220609T174500Z
URL:https://calendify.com/session/3v8gVbKBgQl
LOCATION:Stage 4
SUMMARY:vollehalle – auf der Suche nach dem Morgen
CLASS:PUBLIC
DESCRIPTION:https://calendify.com/session/3v8gVbKBgQl
DTSTAMP:20260424T003126Z
CREATED:20220526T162945Z
LAST-MODIFIED:20220613T235204Z
END:VEVENT
END:VCALENDAR