BEGIN:VCALENDAR
VERSION:2.0
PRODID:calendify.com
BEGIN:VEVENT
UID:calendify-session-3v8gVbQpgQl
DTSTART:20220723T170000Z
SEQUENCE:0
TRANSP:OPAQUE
DTEND:20220723T190000Z
URL:https://calendify.com/session/3v8gVbQpgQl
LOCATION:Hardware Hacking Area 🤖
SUMMARY:Surface Mount Electronics Assembly for Terrified Beginners
CLASS:PUBLIC
DESCRIPTION:https://calendify.com/session/3v8gVbQpgQl
DTSTAMP:20260422T005307Z
CREATED:20220715T164811Z
LAST-MODIFIED:20220726T182703Z
END:VEVENT
END:VCALENDAR