BEGIN:VCALENDAR
VERSION:2.0
PRODID:calendify.com
BEGIN:VEVENT
UID:calendify-session-3v8gVbkPgQl
DTSTART:20220724T080000Z
SEQUENCE:0
TRANSP:OPAQUE
DTEND:20220724T093000Z
URL:https://calendify.com/session/3v8gVbkPgQl
LOCATION:DNA 🧬
SUMMARY:Threat modelling for hackers: a hands-on workshop
CLASS:PUBLIC
DESCRIPTION:https://calendify.com/session/3v8gVbkPgQl
DTSTAMP:20260424T003201Z
CREATED:20220620T212435Z
LAST-MODIFIED:20220726T182703Z
END:VEVENT
END:VCALENDAR