BEGIN:VCALENDAR
VERSION:2.0
PRODID:calendify.com
BEGIN:VEVENT
UID:calendify-session-3v8gVjRjgQl
DTSTART:20260131T170000Z
SEQUENCE:0
TRANSP:OPAQUE
DTEND:20260131T172500Z
URL:https://calendify.com/session/3v8gVjRjgQl
LOCATION:UB2.147
SUMMARY:AutoAPMS: Lightweight and versatile integration of behavior trees i
 nto the ROS 2 ecosystem
CLASS:PUBLIC
DESCRIPTION:https://calendify.com/session/3v8gVjRjgQl
DTSTAMP:20260424T100212Z
CREATED:20260131T063253Z
LAST-MODIFIED:20260201T163222Z
END:VEVENT
END:VCALENDAR