BEGIN:VCALENDAR
VERSION:2.0
PRODID:calendify.com
BEGIN:VEVENT
UID:calendify-session-3v8gVjojgQl
DTSTART:20260131T150500Z
SEQUENCE:0
TRANSP:OPAQUE
DTEND:20260131T152500Z
URL:https://calendify.com/session/3v8gVjojgQl
LOCATION:UA2.118 (Henriot)
SUMMARY:NixOS for Deterministic Distributed-System Benchmarking
CLASS:PUBLIC
DESCRIPTION:https://calendify.com/session/3v8gVjojgQl
DTSTAMP:20260424T124218Z
CREATED:20260131T063251Z
LAST-MODIFIED:20260201T163222Z
END:VEVENT
END:VCALENDAR