BEGIN:VCALENDAR
VERSION:2.0
PRODID:calendify.com
BEGIN:VEVENT
UID:calendify-session-3v8gVm6pMQl
DTSTART:20210207T093000Z
SEQUENCE:0
TRANSP:OPAQUE
DTEND:20210207T100000Z
URL:https://calendify.com/session/3v8gVm6pMQl
LOCATION:S.ow2
SUMMARY:OW2 OSS Good Governance initiative
CLASS:PUBLIC
DESCRIPTION:https://calendify.com/session/3v8gVm6pMQl
DTSTAMP:20260424T062349Z
CREATED:20210207T084805Z
LAST-MODIFIED:20210208T224804Z
END:VEVENT
END:VCALENDAR