BEGIN:VCALENDAR
VERSION:2.0
PRODID:calendify.com
BEGIN:VEVENT
UID:calendify-session-3v8gVmEzMQl
DTSTART:20210207T164000Z
SEQUENCE:0
TRANSP:OPAQUE
DTEND:20210207T170000Z
URL:https://calendify.com/session/3v8gVmEzMQl
LOCATION:D.sdn
SUMMARY:Community ID Flow Hashing
CLASS:PUBLIC
DESCRIPTION:https://calendify.com/session/3v8gVmEzMQl
DTSTAMP:20260420T203445Z
CREATED:20210111T170320Z
LAST-MODIFIED:20210208T224804Z
END:VEVENT
END:VCALENDAR