BEGIN:VCALENDAR
VERSION:2.0
PRODID:calendify.com
BEGIN:VEVENT
UID:calendify-session-3v8gVmRBMQl
DTSTART:20210207T111500Z
SEQUENCE:0
TRANSP:OPAQUE
DTEND:20210207T114500Z
URL:https://calendify.com/session/3v8gVmRBMQl
LOCATION:D.dependency
SUMMARY:Early warning signs for open source breakages
CLASS:PUBLIC
DESCRIPTION:https://calendify.com/session/3v8gVmRBMQl
DTSTAMP:20260419T230308Z
CREATED:20210111T170319Z
LAST-MODIFIED:20210208T224804Z
END:VEVENT
END:VCALENDAR