BEGIN:VCALENDAR
VERSION:2.0
PRODID:calendify.com
BEGIN:VEVENT
UID:calendify-session-3v8gVmdzMQl
DTSTART:20210207T153000Z
SEQUENCE:0
TRANSP:OPAQUE
DTEND:20210207T160000Z
URL:https://calendify.com/session/3v8gVmdzMQl
LOCATION:D.mysql
SUMMARY:Sure you can run your database in kubernetes
CLASS:PUBLIC
DESCRIPTION:https://calendify.com/session/3v8gVmdzMQl
DTSTAMP:20260419T212233Z
CREATED:20210111T170320Z
LAST-MODIFIED:20210208T224804Z
END:VEVENT
END:VCALENDAR