BEGIN:VCALENDAR
VERSION:2.0
PRODID:calendify.com
BEGIN:VEVENT
UID:calendify-session-3v8gVmjBMQl
DTSTART:20210207T140000Z
SEQUENCE:0
TRANSP:OPAQUE
DTEND:20210207T143000Z
URL:https://calendify.com/session/3v8gVmjBMQl
LOCATION:D.hpc
SUMMARY:An Environment for Interactive Parallel Programming with MPI and Op
 enMP
CLASS:PUBLIC
DESCRIPTION:https://calendify.com/session/3v8gVmjBMQl
DTSTAMP:20260424T004009Z
CREATED:20210111T170320Z
LAST-MODIFIED:20210208T224804Z
END:VEVENT
END:VCALENDAR