BEGIN:VCALENDAR
VERSION:2.0
PRODID:calendify.com
BEGIN:VEVENT
UID:calendify-session-3v8gVmoVMQl
DTSTART:20210207T133000Z
SEQUENCE:0
TRANSP:OPAQUE
DTEND:20210207T135000Z
URL:https://calendify.com/session/3v8gVmoVMQl
LOCATION:D.community
SUMMARY:Online Conferences and the \"new normal\".
CLASS:PUBLIC
DESCRIPTION:https://calendify.com/session/3v8gVmoVMQl
DTSTAMP:20260419T182405Z
CREATED:20210111T170319Z
LAST-MODIFIED:20210208T224803Z
END:VEVENT
END:VCALENDAR