BEGIN:VCALENDAR
VERSION:2.0
PRODID:calendify.com
BEGIN:VEVENT
UID:calendify-session-3v8gVmxjMQl
DTSTART:20210206T134500Z
SEQUENCE:0
TRANSP:OPAQUE
DTEND:20210206T143000Z
URL:https://calendify.com/session/3v8gVmxjMQl
LOCATION:D.distributions
SUMMARY:openSUSE MicroOS\, a platform for everything from containers\, to I
 oT\, and even the desktop
CLASS:PUBLIC
DESCRIPTION:https://calendify.com/session/3v8gVmxjMQl
DTSTAMP:20260424T035728Z
CREATED:20210113T115145Z
LAST-MODIFIED:20210208T224802Z
END:VEVENT
END:VCALENDAR