BEGIN:VCALENDAR
VERSION:2.0
PRODID:calendify.com
BEGIN:VEVENT
UID:calendify-session-3v8gVv0jgQl
DTSTART:20231229T120000Z
SEQUENCE:0
TRANSP:OPAQUE
DTEND:20231229T143000Z
URL:https://calendify.com/session/3v8gVv0jgQl
LOCATION:Chaoswelle
SUMMARY:POTA – Parks on the Air [Day 3]
CLASS:PUBLIC
DESCRIPTION:https://calendify.com/session/3v8gVv0jgQl
DTSTAMP:20260423T060229Z
CREATED:20231218T013834Z
LAST-MODIFIED:20240401T142932Z
END:VEVENT
END:VCALENDAR