BEGIN:VCALENDAR
VERSION:2.0
PRODID:calendify.com
BEGIN:VEVENT
UID:calendify-session-3v8gVv5QgQl
DTSTART:20240331T020000Z
SEQUENCE:0
TRANSP:OPAQUE
DTEND:20240331T030000Z
URL:https://calendify.com/session/3v8gVv5QgQl
LOCATION:Party Praetoria (Ohren) - E007
SUMMARY:Elektron Analog RYTM Tekno live set
CLASS:PUBLIC
DESCRIPTION:https://calendify.com/session/3v8gVv5QgQl
DTSTAMP:20260424T015630Z
CREATED:20240328T125152Z
LAST-MODIFIED:20240401T142841Z
END:VEVENT
END:VCALENDAR