BEGIN:VCALENDAR
VERSION:2.0
PRODID:calendify.com
BEGIN:VEVENT
UID:calendify-session-3v8gVvB8gQl
DTSTART:20231227T190000Z
SEQUENCE:0
TRANSP:OPAQUE
DTEND:20231227T200000Z
URL:https://calendify.com/session/3v8gVvB8gQl
LOCATION:Bits & Bäume Workshop Space
SUMMARY:Freifunk Stuttgart Meetup
CLASS:PUBLIC
DESCRIPTION:https://calendify.com/session/3v8gVvB8gQl
DTSTAMP:20260423T031427Z
CREATED:20231224T230004Z
LAST-MODIFIED:20240401T142932Z
END:VEVENT
END:VCALENDAR