BEGIN:VCALENDAR
VERSION:2.0
PRODID:calendify.com
BEGIN:VEVENT
UID:calendify-session-3v8gVvNVgQl
DTSTART:20230902T140000Z
SEQUENCE:0
TRANSP:OPAQUE
DTEND:20230902T153000Z
URL:https://calendify.com/session/3v8gVvNVgQl
LOCATION:B002 - Höhle der Hohlerde
SUMMARY:Memetische Agitation des jungen Rechtsaußenspektrums: Mechanismen\
 , Strategien\, Narrative
CLASS:PUBLIC
DESCRIPTION:https://calendify.com/session/3v8gVvNVgQl
DTSTAMP:20260422T183940Z
CREATED:20240328T132702Z
LAST-MODIFIED:20240328T132702Z
END:VEVENT
END:VCALENDAR