BEGIN:VCALENDAR
VERSION:2.0
PRODID:calendify.com
BEGIN:VEVENT
UID:calendify-session-3v8gVvXpgQl
DTSTART:20231228T150000Z
SEQUENCE:0
TRANSP:OPAQUE
DTEND:20231228T155500Z
URL:https://calendify.com/session/3v8gVvXpgQl
LOCATION:Bits & Bäume Workshop Space
SUMMARY:CiviCRM als open source CRM (Erfahrungsaustausch)
CLASS:PUBLIC
DESCRIPTION:https://calendify.com/session/3v8gVvXpgQl
DTSTAMP:20260420T031717Z
CREATED:20231227T223002Z
LAST-MODIFIED:20240401T142932Z
END:VEVENT
END:VCALENDAR