BEGIN:VCALENDAR
VERSION:2.0
PRODID:calendify.com
BEGIN:VEVENT
UID:calendify-session-3v8gVvZ7gQl
DTSTART:20231228T110000Z
SEQUENCE:0
TRANSP:OPAQUE
DTEND:20231228T114000Z
URL:https://calendify.com/session/3v8gVvZ7gQl
LOCATION:Saal Zuse
SUMMARY:A year of surveillance in France: a short satirical tale by La Quad
 rature du Net
CLASS:PUBLIC
DESCRIPTION:https://calendify.com/session/3v8gVvZ7gQl
DTSTAMP:20260423T060857Z
CREATED:20231215T204820Z
LAST-MODIFIED:20240401T142932Z
END:VEVENT
END:VCALENDAR