BEGIN:VCALENDAR
VERSION:2.0
PRODID:calendify.com
BEGIN:VEVENT
UID:calendify-session-7GZMr9EzO0o
DTSTART:20161230T120000Z
SEQUENCE:0
TRANSP:OPAQUE
DTEND:20161230T123000Z
URL:https://calendify.com/session/7GZMr9EzO0o
LOCATION:Saal 2
SUMMARY:Retail Surveillance / Retail Countersurveillance
CLASS:PUBLIC
DESCRIPTION:https://calendify.com/session/7GZMr9EzO0o
DTSTAMP:20260420T100116Z
CREATED:20220415T135303Z
LAST-MODIFIED:20220415T135303Z
END:VEVENT
END:VCALENDAR