BEGIN:VCALENDAR
VERSION:2.0
PRODID:calendify.com
BEGIN:VEVENT
UID:calendify-session-7GZMr9PvO0o
DTSTART:20220206T134000Z
SEQUENCE:0
TRANSP:OPAQUE
DTEND:20220206T141000Z
URL:https://calendify.com/session/7GZMr9PvO0o
LOCATION:D.kotlin
SUMMARY:From Mobile to Backend with Kotlin and Ktor
CLASS:PUBLIC
DESCRIPTION:https://calendify.com/session/7GZMr9PvO0o
DTSTAMP:20260420T081558Z
CREATED:20220120T214608Z
LAST-MODIFIED:20220206T225004Z
END:VEVENT
END:VCALENDAR