BEGIN:VCALENDAR
VERSION:2.0
PRODID:calendify.com
BEGIN:VEVENT
UID:calendify-session-7GZMr9nlO0o
DTSTART:20220608T130000Z
SEQUENCE:0
TRANSP:OPAQUE
DTEND:20220608T133000Z
URL:https://calendify.com/session/7GZMr9nlO0o
LOCATION:Stage 3
SUMMARY:Deepfakes – Pure Evil or also an Opportunity?
CLASS:PUBLIC
DESCRIPTION:https://calendify.com/session/7GZMr9nlO0o
DTSTAMP:20260424T004130Z
CREATED:20220526T162946Z
LAST-MODIFIED:20220613T235204Z
END:VEVENT
END:VCALENDAR