BEGIN:VCALENDAR
VERSION:2.0
PRODID:calendify.com
BEGIN:VEVENT
UID:calendify-session-7GZMr9qzO0o
DTSTART:20220610T230000Z
SEQUENCE:0
TRANSP:OPAQUE
DTEND:20220611T010000Z
URL:https://calendify.com/session/7GZMr9qzO0o
LOCATION:Arena Club
SUMMARY:Imad // THF Radio @ Arena Club // Music = Love\, Love = Message
CLASS:PUBLIC
DESCRIPTION:https://calendify.com/session/7GZMr9qzO0o
DTSTAMP:20260420T141412Z
CREATED:20220605T230947Z
LAST-MODIFIED:20220613T235205Z
END:VEVENT
END:VCALENDAR