BEGIN:VCALENDAR
VERSION:2.0
PRODID:calendify.com
BEGIN:VEVENT
UID:calendify-session-7GZMrADzO0o
DTSTART:20190601T210000Z
SEQUENCE:0
TRANSP:OPAQUE
DTEND:20190601T220000Z
URL:https://calendify.com/session/7GZMrADzO0o
LOCATION:ZKM_Vortragssaal
SUMMARY:BorgBackup Updates / Q&A / Discussion
CLASS:PUBLIC
DESCRIPTION:https://calendify.com/session/7GZMrADzO0o
DTSTAMP:20260422T023220Z
CREATED:20200509T115123Z
LAST-MODIFIED:20200509T115123Z
END:VEVENT
END:VCALENDAR