BEGIN:VCALENDAR
VERSION:2.0
PRODID:calendify.com
BEGIN:VEVENT
UID:calendify-session-7GZMrAPvO0o
DTSTART:20191229T195000Z
SEQUENCE:0
TRANSP:OPAQUE
DTEND:20191229T203000Z
URL:https://calendify.com/session/7GZMrAPvO0o
LOCATION:Clarke
SUMMARY:The Planet Friendly Web
CLASS:PUBLIC
DESCRIPTION:https://calendify.com/session/7GZMrAPvO0o
DTSTAMP:20260423T084949Z
CREATED:20200429T014114Z
LAST-MODIFIED:20200429T014114Z
END:VEVENT
END:VCALENDAR