BEGIN:VCALENDAR
VERSION:2.0
PRODID:calendify.com
BEGIN:VEVENT
UID:calendify-session-7GZMrAZjO0o
DTSTART:20200201T130000Z
SEQUENCE:0
TRANSP:OPAQUE
DTEND:20200201T132500Z
URL:https://calendify.com/session/7GZMrAZjO0o
LOCATION:UB4.136
SUMMARY:Creating Word Clouds with OpenOffice
CLASS:PUBLIC
DESCRIPTION:https://calendify.com/session/7GZMrAZjO0o
DTSTAMP:20260421T071024Z
CREATED:20200513T234730Z
LAST-MODIFIED:20210426T093308Z
END:VEVENT
END:VCALENDAR