BEGIN:VCALENDAR
VERSION:2.0
PRODID:calendify.com
BEGIN:VEVENT
UID:calendify-session-7GZMrAbAO0o
DTSTART:20181227T123000Z
SEQUENCE:0
TRANSP:OPAQUE
DTEND:20181227T131000Z
URL:https://calendify.com/session/7GZMrAbAO0o
LOCATION:Clarke
SUMMARY:First Sednit UEFI Rootkit Unveiled
CLASS:PUBLIC
DESCRIPTION:https://calendify.com/session/7GZMrAbAO0o
DTSTAMP:20260423T162847Z
CREATED:20200509T021802Z
LAST-MODIFIED:20200512T221856Z
END:VEVENT
END:VCALENDAR