BEGIN:VCALENDAR
VERSION:2.0
PRODID:calendify.com
BEGIN:VEVENT
UID:calendify-session-7GZMrAejO0o
DTSTART:20200201T105500Z
SEQUENCE:0
TRANSP:OPAQUE
DTEND:20200201T111500Z
URL:https://calendify.com/session/7GZMrAejO0o
LOCATION:UD2.208 (Decroly)
SUMMARY:Kata Containers on openSUSE
CLASS:PUBLIC
DESCRIPTION:https://calendify.com/session/7GZMrAejO0o
DTSTAMP:20260424T063340Z
CREATED:20200513T234731Z
LAST-MODIFIED:20210426T093308Z
END:VEVENT
END:VCALENDAR