BEGIN:VCALENDAR
VERSION:2.0
PRODID:calendify.com
BEGIN:VEVENT
UID:calendify-session-7GZMrEDpO0o
DTSTART:20240921T170000Z
SEQUENCE:0
TRANSP:OPAQUE
DTEND:20240921T174500Z
URL:https://calendify.com/session/7GZMrEDpO0o
LOCATION:Bar
SUMMARY:GPTDash
CLASS:PUBLIC
DESCRIPTION:https://calendify.com/session/7GZMrEDpO0o
DTSTAMP:20260422T165042Z
CREATED:20241208T220338Z
LAST-MODIFIED:20241208T220338Z
END:VEVENT
END:VCALENDAR