BEGIN:VCALENDAR
VERSION:2.0
PRODID:calendify.com
BEGIN:VEVENT
UID:calendify-session-7GZMrN3wM0o
DTSTART:20230721T160000Z
SEQUENCE:0
TRANSP:OPAQUE
DTEND:20230721T173000Z
URL:https://calendify.com/session/7GZMrN3wM0o
LOCATION:woanders
SUMMARY:Wir bauen ein echtes Pinballspiel.
CLASS:PUBLIC
DESCRIPTION:https://calendify.com/session/7GZMrN3wM0o
DTSTAMP:20260420T144919Z
CREATED:20230806T113705Z
LAST-MODIFIED:20230806T113705Z
END:VEVENT
END:VCALENDAR