BEGIN:VCALENDAR
VERSION:2.0
PRODID:calendify.com
BEGIN:VEVENT
UID:calendify-session-7GZMrNEDM0o
DTSTART:20230817T130000Z
SEQUENCE:0
TRANSP:OPAQUE
DTEND:20230817T140000Z
URL:https://calendify.com/session/7GZMrNEDM0o
LOCATION:C3VOC.tv
SUMMARY:NOC
CLASS:PUBLIC
DESCRIPTION:https://calendify.com/session/7GZMrNEDM0o
DTSTAMP:20260420T002535Z
CREATED:20230817T131742Z
LAST-MODIFIED:20240401T150802Z
END:VEVENT
END:VCALENDAR