BEGIN:VCALENDAR
VERSION:2.0
PRODID:calendify.com
BEGIN:VEVENT
UID:calendify-session-7GZMrNJ1M0o
DTSTART:20231228T103000Z
SEQUENCE:0
TRANSP:OPAQUE
DTEND:20231228T111000Z
URL:https://calendify.com/session/7GZMrNJ1M0o
LOCATION:CTBK-Workshoparea
SUMMARY:Spleiß-Workshop Tag 2
CLASS:PUBLIC
DESCRIPTION:https://calendify.com/session/7GZMrNJ1M0o
DTSTAMP:20260423T015747Z
CREATED:20231226T195002Z
LAST-MODIFIED:20240401T142932Z
END:VEVENT
END:VCALENDAR