BEGIN:VCALENDAR
VERSION:2.0
PRODID:calendify.com
BEGIN:VEVENT
UID:calendify-session-7GZMrNQzM0o
DTSTART:20231229T102000Z
SEQUENCE:0
TRANSP:OPAQUE
DTEND:20231229T120000Z
URL:https://calendify.com/session/7GZMrNQzM0o
LOCATION:Stage Y
SUMMARY:Gesprächsrunde über kollektive Lebenskonzepte abseits der Kleinfa
 milie
CLASS:PUBLIC
DESCRIPTION:https://calendify.com/session/7GZMrNQzM0o
DTSTAMP:20260423T082606Z
CREATED:20231225T132002Z
LAST-MODIFIED:20240401T142932Z
END:VEVENT
END:VCALENDAR