BEGIN:VCALENDAR
VERSION:2.0
PRODID:calendify.com
BEGIN:VEVENT
UID:calendify-session-7GZMrNZwM0o
DTSTART:20231229T150000Z
SEQUENCE:0
TRANSP:OPAQUE
DTEND:20231229T160000Z
URL:https://calendify.com/session/7GZMrNZwM0o
LOCATION:Corridor outside Hall 3 near Openlab Augsburg
SUMMARY:Legale und andere Tricks ohne Geld durch die Welt zu kommen
CLASS:PUBLIC
DESCRIPTION:https://calendify.com/session/7GZMrNZwM0o
DTSTAMP:20260423T004244Z
CREATED:20231228T223002Z
LAST-MODIFIED:20240401T142933Z
END:VEVENT
END:VCALENDAR