BEGIN:VCALENDAR
VERSION:2.0
PRODID:calendify.com
BEGIN:VEVENT
UID:calendify-session-7GZMrNppM0o
DTSTART:20240331T141500Z
SEQUENCE:0
TRANSP:OPAQUE
DTEND:20240331T151500Z
URL:https://calendify.com/session/7GZMrNppM0o
LOCATION:Adas Roothaus - K017
SUMMARY:Spaß mit der Mandelbrot Menge
CLASS:PUBLIC
DESCRIPTION:https://calendify.com/session/7GZMrNppM0o
DTSTAMP:20260419T172349Z
CREATED:20240328T125152Z
LAST-MODIFIED:20240401T142841Z
END:VEVENT
END:VCALENDAR