BEGIN:VCALENDAR
VERSION:2.0
PRODID:calendify.com
BEGIN:VEVENT
UID:calendify-session-7GZMrNw8M0o
DTSTART:20231228T130000Z
SEQUENCE:0
TRANSP:OPAQUE
DTEND:20231228T140000Z
URL:https://calendify.com/session/7GZMrNw8M0o
LOCATION:House
SUMMARY:CYCLOPS Meetup
CLASS:PUBLIC
DESCRIPTION:https://calendify.com/session/7GZMrNw8M0o
DTSTAMP:20260423T044145Z
CREATED:20231221T182738Z
LAST-MODIFIED:20240401T142932Z
END:VEVENT
END:VCALENDAR