BEGIN:VCALENDAR
VERSION:2.0
PRODID:calendify.com
BEGIN:VEVENT
UID:calendify-session-7GZMrNypM0o
DTSTART:20240330T150000Z
SEQUENCE:0
TRANSP:OPAQUE
DTEND:20240330T160000Z
URL:https://calendify.com/session/7GZMrNypM0o
LOCATION:Bitmarckplatz - D003
SUMMARY:Kryptoanalyse (fast) ohne Mathematik
CLASS:PUBLIC
DESCRIPTION:https://calendify.com/session/7GZMrNypM0o
DTSTAMP:20260424T003629Z
CREATED:20240328T125150Z
LAST-MODIFIED:20240401T142841Z
END:VEVENT
END:VCALENDAR