BEGIN:VCALENDAR
VERSION:2.0
PRODID:calendify.com
BEGIN:VEVENT
UID:calendify-session-7GZMrNz9M0o
DTSTART:20231229T152000Z
SEQUENCE:0
TRANSP:OPAQUE
DTEND:20231229T162000Z
URL:https://calendify.com/session/7GZMrNz9M0o
LOCATION:Stage H
SUMMARY:neural cellular automata
CLASS:PUBLIC
DESCRIPTION:https://calendify.com/session/7GZMrNz9M0o
DTSTAMP:20260423T080959Z
CREATED:20231227T204002Z
LAST-MODIFIED:20240401T142932Z
END:VEVENT
END:VCALENDAR