BEGIN:VCALENDAR
VERSION:2.0
PRODID:calendify.com
BEGIN:VEVENT
UID:calendify-session-7GZMrbBAM0o
DTSTART:20210308T133000Z
SEQUENCE:0
TRANSP:OPAQUE
URL:https://calendify.com/session/7GZMrbBAM0o
LOCATION:Art and Media
SUMMARY:Personal Data & Political Influence
CLASS:PUBLIC
DESCRIPTION:https://calendify.com/session/7GZMrbBAM0o
DTSTAMP:20260422T174559Z
CREATED:20210426T094927Z
LAST-MODIFIED:20210426T094927Z
END:VEVENT
END:VCALENDAR