BEGIN:VCALENDAR
VERSION:2.0
PRODID:calendify.com
BEGIN:VEVENT
UID:calendify-session-7GZMrbezM0o
DTSTART:20220205T093000Z
SEQUENCE:0
TRANSP:OPAQUE
DTEND:20220205T100000Z
URL:https://calendify.com/session/7GZMrbezM0o
LOCATION:D.collab
SUMMARY:Oniro - an open-source starter for fast-paced IoT environments
CLASS:PUBLIC
DESCRIPTION:https://calendify.com/session/7GZMrbezM0o
DTSTAMP:20260420T143140Z
CREATED:20220120T214601Z
LAST-MODIFIED:20220206T225002Z
END:VEVENT
END:VCALENDAR