BEGIN:VCALENDAR
VERSION:2.0
PRODID:calendify.com
BEGIN:VEVENT
UID:calendify-session-7GZMrbvAM0o
DTSTART:20210308T181500Z
SEQUENCE:0
TRANSP:OPAQUE
DTEND:20210308T191500Z
URL:https://calendify.com/session/7GZMrbvAM0o
LOCATION:Zoom Room 2B
SUMMARY:Ad Transparency and Access for Researchers: What are platforms hidi
 ng?
CLASS:PUBLIC
DESCRIPTION:https://calendify.com/session/7GZMrbvAM0o
DTSTAMP:20260420T220506Z
CREATED:20210426T094926Z
LAST-MODIFIED:20210426T094926Z
END:VEVENT
END:VCALENDAR