BEGIN:VCALENDAR
VERSION:2.0
PRODID:calendify.com
BEGIN:VEVENT
UID:calendify-session-7GZMrkblg0o
DTSTART:20221228T150000Z
SEQUENCE:0
TRANSP:OPAQUE
DTEND:20221228T154500Z
URL:https://calendify.com/session/7GZMrkblg0o
LOCATION:WICMP Seminarraum
SUMMARY:Wie funktioniert eigentlich Filmentwicklung?
CLASS:PUBLIC
DESCRIPTION:https://calendify.com/session/7GZMrkblg0o
DTSTAMP:20260420T171355Z
CREATED:20221221T105639Z
LAST-MODIFIED:20221230T225006Z
END:VEVENT
END:VCALENDAR