BEGIN:VCALENDAR
VERSION:2.0
PRODID:calendify.com
BEGIN:VEVENT
UID:calendify-session-7GZMrkeDg0o
DTSTART:20230606T103000Z
SEQUENCE:0
TRANSP:OPAQUE
DTEND:20230606T110000Z
URL:https://calendify.com/session/7GZMrkeDg0o
LOCATION:Stage 6
SUMMARY:Dungeons & Dragons & Deutschland – Wie steht es bei uns um \"Pen 
 & Paper\"-Rollenspiele?
CLASS:PUBLIC
DESCRIPTION:https://calendify.com/session/7GZMrkeDg0o
DTSTAMP:20260424T014947Z
CREATED:20230604T163759Z
LAST-MODIFIED:20230606T124205Z
END:VEVENT
END:VCALENDAR