BEGIN:VCALENDAR
VERSION:2.0
PRODID:calendify.com
BEGIN:VEVENT
UID:calendify-session-7GZMrkplg0o
DTSTART:20230606T130000Z
SEQUENCE:0
TRANSP:OPAQUE
DTEND:20230606T133000Z
URL:https://calendify.com/session/7GZMrkplg0o
LOCATION:Oberhafenkantine
SUMMARY:Den Status quo überwinden: die Potenziale einer Open Circular Soci
 ety
CLASS:PUBLIC
DESCRIPTION:https://calendify.com/session/7GZMrkplg0o
DTSTAMP:20260422T180421Z
CREATED:20230604T163801Z
LAST-MODIFIED:20230606T124205Z
END:VEVENT
END:VCALENDAR