BEGIN:VCALENDAR
VERSION:2.0
PRODID:calendify.com
BEGIN:VEVENT
UID:calendify-session-7GZMrr7wM0o
DTSTART:20260201T142000Z
SEQUENCE:0
TRANSP:OPAQUE
DTEND:20260201T144000Z
URL:https://calendify.com/session/7GZMrr7wM0o
LOCATION:UA2.220 (Guillissen)
SUMMARY:Linux Pro audio... like a pro!
CLASS:PUBLIC
DESCRIPTION:https://calendify.com/session/7GZMrr7wM0o
DTSTAMP:20260424T113113Z
CREATED:20260131T063319Z
LAST-MODIFIED:20260201T163232Z
END:VEVENT
END:VCALENDAR