BEGIN:VCALENDAR
VERSION:2.0
PRODID:calendify.com
BEGIN:VEVENT
UID:calendify-session-7GZMrrzvM0o
DTSTART:20260201T133000Z
SEQUENCE:0
TRANSP:OPAQUE
DTEND:20260201T135500Z
URL:https://calendify.com/session/7GZMrrzvM0o
LOCATION:UA2.220 (Guillissen)
SUMMARY:Livecoding soundscapes in Kotlin with Compose Multiplatform
CLASS:PUBLIC
DESCRIPTION:https://calendify.com/session/7GZMrrzvM0o
DTSTAMP:20260424T073337Z
CREATED:20260131T141845Z
LAST-MODIFIED:20260201T163232Z
END:VEVENT
END:VCALENDAR