BEGIN:VCALENDAR
VERSION:2.0
PRODID:calendify.com
BEGIN:VEVENT
UID:calendify-session-7GZMrx9p40o
DTSTART:20210206T155500Z
SEQUENCE:0
TRANSP:OPAQUE
DTEND:20210206T161500Z
URL:https://calendify.com/session/7GZMrx9p40o
LOCATION:D.network
SUMMARY:ntopng network monitoring and discovery
CLASS:PUBLIC
DESCRIPTION:https://calendify.com/session/7GZMrx9p40o
DTSTAMP:20260419T195019Z
CREATED:20210111T170319Z
LAST-MODIFIED:20210208T224802Z
END:VEVENT
END:VCALENDAR